BEGIN:VCALENDAR
VERSION:2.0
PRODID:-//Tobias Mann - ECPv5.16.1.1//NONSGML v1.0//EN
CALSCALE:GREGORIAN
METHOD:PUBLISH
X-WR-CALNAME:Tobias Mann
X-ORIGINAL-URL:https://www.tobiasmann.de
X-WR-CALDESC:Veranstaltungen für Tobias Mann
BEGIN:VTIMEZONE
TZID:Europe/Berlin
BEGIN:DAYLIGHT
TZOFFSETFROM:+0100
TZOFFSETTO:+0200
TZNAME:CEST
DTSTART:20230326T010000
END:DAYLIGHT
BEGIN:STANDARD
TZOFFSETFROM:+0200
TZOFFSETTO:+0100
TZNAME:CET
DTSTART:20231029T010000
END:STANDARD
END:VTIMEZONE
BEGIN:VEVENT
DTSTART;TZID=Europe/Berlin:20230707T225500
DTEND;TZID=Europe/Berlin:20230707T232500
DTSTAMP:20260424T155813
CREATED:20230622T071721Z
LAST-MODIFIED:20230622T071721Z
UID:2591-1688770500-1688772300@www.tobiasmann.de
SUMMARY:ZDF Comedy Sommer | Ausstrahlung
DESCRIPTION:Tobias Mann zu Gast im ZDF Comedy Sommer \nMichael Mittermeier führt durch den Abend. Seine Gäste sind der Kabarettist Tobias Mann\, die Comedienne Nicole Jäger und der Gute-Laune-Garant Bülent Ceylan. \nInfos zur Sendung im Web
URL:https://www.tobiasmann.de/event/zdf-comedy-sommer-ausstrahlung/
LOCATION:ZDF Fernsehen\, Deutschland
CATEGORIES:TV
GEO:49.9616703;8.2098385
END:VEVENT
END:VCALENDAR