BEGIN:VCALENDAR
VERSION:2.0
PRODID:-//Tobias Mann - ECPv5.16.1.1//NONSGML v1.0//EN
CALSCALE:GREGORIAN
METHOD:PUBLISH
X-WR-CALNAME:Tobias Mann
X-ORIGINAL-URL:https://www.tobiasmann.de
X-WR-CALDESC:Veranstaltungen für Tobias Mann
BEGIN:VTIMEZONE
TZID:Europe/Berlin
BEGIN:DAYLIGHT
TZOFFSETFROM:+0100
TZOFFSETTO:+0200
TZNAME:CEST
DTSTART:20230326T010000
END:DAYLIGHT
BEGIN:STANDARD
TZOFFSETFROM:+0200
TZOFFSETTO:+0100
TZNAME:CET
DTSTART:20231029T010000
END:STANDARD
END:VTIMEZONE
BEGIN:VEVENT
DTSTART;TZID=Europe/Berlin:20230629T210000
DTEND;TZID=Europe/Berlin:20230629T210000
DTSTAMP:20260424T172255
CREATED:20220227T180919Z
LAST-MODIFIED:20230529T152550Z
UID:2052-1688072400-1688072400@www.tobiasmann.de
SUMMARY:"SCHLACHTHOF" | Ausstrahlung
DESCRIPTION:Infos zu der Sendung im Web
URL:https://www.tobiasmann.de/event/schlachthof-ausstrahlung/
LOCATION:BR Fernsehen
CATEGORIES:TV
ATTACH;FMTTYPE=image/png:https://www.tobiasmann.de/wp-content/uploads/tribe-related-events-tv_alt.png
GEO:48.14414095;11.5546787
END:VEVENT
END:VCALENDAR