BEGIN:VCALENDAR
VERSION:2.0
PRODID:-//Tobias Mann - ECPv5.16.1.1//NONSGML v1.0//EN
CALSCALE:GREGORIAN
METHOD:PUBLISH
X-WR-CALNAME:Tobias Mann
X-ORIGINAL-URL:https://www.tobiasmann.de
X-WR-CALDESC:Veranstaltungen für Tobias Mann
BEGIN:VTIMEZONE
TZID:Europe/Berlin
BEGIN:DAYLIGHT
TZOFFSETFROM:+0100
TZOFFSETTO:+0200
TZNAME:CEST
DTSTART:20240331T010000
END:DAYLIGHT
BEGIN:STANDARD
TZOFFSETFROM:+0200
TZOFFSETTO:+0100
TZNAME:CET
DTSTART:20241027T010000
END:STANDARD
END:VTIMEZONE
BEGIN:VEVENT
DTSTART;TZID=Europe/Berlin:20240223T200000
DTEND;TZID=Europe/Berlin:20240223T200000
DTSTAMP:20260425T020418
CREATED:20230529T161735Z
LAST-MODIFIED:20231009T165508Z
UID:2564-1708718400-1708718400@www.tobiasmann.de
SUMMARY:Remagen
DESCRIPTION:„MANN GEGEN MANN“ \nInfos zu der Veranstaltung im Web  \nTickets online kaufen
URL:https://www.tobiasmann.de/event/remagen/
LOCATION:Rheinhalle\, Goethestr. 25\, Remagen\, 53424\, Deutschland
CATEGORIES:Liveprogramm
ATTACH;FMTTYPE=image/png:https://www.tobiasmann.de/wp-content/uploads/tribe-related-events-live-r.png
END:VEVENT
END:VCALENDAR