BEGIN:VCALENDAR
VERSION:2.0
PRODID:-//Tobias Mann - ECPv5.16.1.1//NONSGML v1.0//EN
CALSCALE:GREGORIAN
METHOD:PUBLISH
X-WR-CALNAME:Tobias Mann
X-ORIGINAL-URL:https://www.tobiasmann.de
X-WR-CALDESC:Veranstaltungen für Tobias Mann
BEGIN:VTIMEZONE
TZID:Europe/Berlin
BEGIN:DAYLIGHT
TZOFFSETFROM:+0100
TZOFFSETTO:+0200
TZNAME:CEST
DTSTART:20210328T010000
END:DAYLIGHT
BEGIN:STANDARD
TZOFFSETFROM:+0200
TZOFFSETTO:+0100
TZNAME:CET
DTSTART:20211031T010000
END:STANDARD
END:VTIMEZONE
BEGIN:VEVENT
DTSTART;TZID=Europe/Berlin:20210510T222500
DTEND;TZID=Europe/Berlin:20210510T222500
DTSTAMP:20260424T224423
CREATED:20210203T123311Z
LAST-MODIFIED:20210203T123542Z
UID:1344-1620685500-1620685500@www.tobiasmann.de
SUMMARY:"Pufpaffs Happy Hour" | 3 SAT
DESCRIPTION:
URL:https://www.tobiasmann.de/event/pufpaffs-happy-hour-3-sat-2/
LOCATION:3 SAT
CATEGORIES:TV
ATTACH;FMTTYPE=image/png:https://www.tobiasmann.de/wp-content/uploads/tribe-related-events-tv_alt.png
END:VEVENT
END:VCALENDAR