BEGIN:VCALENDAR
VERSION:2.0
PRODID:-//Tobias Mann - ECPv5.16.1.1//NONSGML v1.0//EN
CALSCALE:GREGORIAN
METHOD:PUBLISH
X-WR-CALNAME:Tobias Mann
X-ORIGINAL-URL:https://www.tobiasmann.de
X-WR-CALDESC:Veranstaltungen für Tobias Mann
BEGIN:VTIMEZONE
TZID:Europe/Berlin
BEGIN:DAYLIGHT
TZOFFSETFROM:+0100
TZOFFSETTO:+0200
TZNAME:CEST
DTSTART:20200329T010000
END:DAYLIGHT
BEGIN:STANDARD
TZOFFSETFROM:+0200
TZOFFSETTO:+0100
TZNAME:CET
DTSTART:20201025T010000
END:STANDARD
END:VTIMEZONE
BEGIN:VEVENT
DTSTART;TZID=Europe/Berlin:20201016T233000
DTEND;TZID=Europe/Berlin:20201016T233000
DTSTAMP:20260425T024530
CREATED:20201009T142357Z
LAST-MODIFIED:20201009T142357Z
UID:1158-1602891000-1602891000@www.tobiasmann.de
SUMMARY:PRIX PANTHEON 2020 | Vorentscheidung
DESCRIPTION:Infos zu der Veranstaltung im Web
URL:https://www.tobiasmann.de/event/prix-pantheon-2020-vorentscheidung/
LOCATION:WDR Fernsehen\, Deutschland
CATEGORIES:TV
ATTACH;FMTTYPE=image/png:https://www.tobiasmann.de/wp-content/uploads/tribe-related-events-tv_alt.png
GEO:50.93987075;6.95168736
END:VEVENT
END:VCALENDAR