BEGIN:VCALENDAR
VERSION:2.0
PRODID:-//Tobias Mann - ECPv5.16.1.1//NONSGML v1.0//EN
CALSCALE:GREGORIAN
METHOD:PUBLISH
X-WR-CALNAME:Tobias Mann
X-ORIGINAL-URL:https://www.tobiasmann.de
X-WR-CALDESC:Veranstaltungen für Tobias Mann
BEGIN:VTIMEZONE
TZID:Europe/Berlin
BEGIN:DAYLIGHT
TZOFFSETFROM:+0100
TZOFFSETTO:+0200
TZNAME:CEST
DTSTART:20200329T010000
END:DAYLIGHT
BEGIN:STANDARD
TZOFFSETFROM:+0200
TZOFFSETTO:+0100
TZNAME:CET
DTSTART:20201025T010000
END:STANDARD
END:VTIMEZONE
BEGIN:VEVENT
DTSTART;TZID=Europe/Berlin:20201015T220500
DTEND;TZID=Europe/Berlin:20201015T220500
DTSTAMP:20260425T041535
CREATED:20201009T142704Z
LAST-MODIFIED:20201009T142704Z
UID:1162-1602799500-1602799500@www.tobiasmann.de
SUMMARY:PRIX PANTHEON 2020 | Finale
DESCRIPTION:Infos zu der Veranstaltung im Web
URL:https://www.tobiasmann.de/event/prix-pantheon-2020-finale/
LOCATION:WDR 5 Radio
CATEGORIES:Radio
ATTACH;FMTTYPE=image/png:https://www.tobiasmann.de/wp-content/uploads/tribe-related-events-radio.png
GEO:50.93987075;6.95168736
END:VEVENT
END:VCALENDAR