BEGIN:VCALENDAR
VERSION:2.0
PRODID:-//Tobias Mann - ECPv5.16.1.1//NONSGML v1.0//EN
CALSCALE:GREGORIAN
METHOD:PUBLISH
X-WR-CALNAME:Tobias Mann
X-ORIGINAL-URL:https://www.tobiasmann.de
X-WR-CALDESC:Veranstaltungen für Tobias Mann
BEGIN:VTIMEZONE
TZID:Europe/Berlin
BEGIN:DAYLIGHT
TZOFFSETFROM:+0100
TZOFFSETTO:+0200
TZNAME:CEST
DTSTART:20200329T010000
END:DAYLIGHT
BEGIN:STANDARD
TZOFFSETFROM:+0200
TZOFFSETTO:+0100
TZNAME:CET
DTSTART:20201025T010000
END:STANDARD
END:VTIMEZONE
BEGIN:VEVENT
DTSTART;TZID=Europe/Berlin:20201014T190000
DTEND;TZID=Europe/Berlin:20201014T190000
DTSTAMP:20260425T054446
CREATED:20201009T143112Z
LAST-MODIFIED:20201009T143112Z
UID:1168-1602702000-1602702000@www.tobiasmann.de
SUMMARY:PRIX PANTHEON 2020 | Finale
DESCRIPTION:Infos zu der Veranstaltung im Web
URL:https://www.tobiasmann.de/event/prix-pantheon-2020-finale-3/
LOCATION:PANTHEON Theater\, Siegburger Straße 42\, Bonn\, 53229\, Deutschland
CATEGORIES:AUSVERKAUFT
ATTACH;FMTTYPE=image/png:https://www.tobiasmann.de/wp-content/uploads/tribe-related-events-live-r.png
GEO:50.7397475;7.1324313
X-APPLE-STRUCTURED-LOCATION;VALUE=URI;X-ADDRESS=PANTHEON Theater Siegburger Straße 42 Bonn 53229 Deutschland;X-APPLE-RADIUS=500;X-TITLE=Siegburger Straße 42:geo:7.1324313,50.7397475
END:VEVENT
END:VCALENDAR