BEGIN:VCALENDAR
VERSION:2.0
PRODID:-//Tobias Mann - ECPv5.16.1.1//NONSGML v1.0//EN
CALSCALE:GREGORIAN
METHOD:PUBLISH
X-WR-CALNAME:Tobias Mann
X-ORIGINAL-URL:https://www.tobiasmann.de
X-WR-CALDESC:Veranstaltungen für Tobias Mann
BEGIN:VTIMEZONE
TZID:Europe/Berlin
BEGIN:DAYLIGHT
TZOFFSETFROM:+0100
TZOFFSETTO:+0200
TZNAME:CEST
DTSTART:20220327T010000
END:DAYLIGHT
BEGIN:STANDARD
TZOFFSETFROM:+0200
TZOFFSETTO:+0100
TZNAME:CET
DTSTART:20221030T010000
END:STANDARD
END:VTIMEZONE
BEGIN:VEVENT
DTSTART;TZID=Europe/Berlin:20220428T200000
DTEND;TZID=Europe/Berlin:20220428T200000
DTSTAMP:20260421T123639
CREATED:20210316T071508Z
LAST-MODIFIED:20210520T122815Z
UID:1390-1651176000-1651176000@www.tobiasmann.de
SUMMARY:„MANN GEGEN MANN“ Rheda-Wiedenbrück
DESCRIPTION:Infos zu der Veranstaltung im Web  \nTickets online kaufen  \nKarten vom 12.12.2020 / 16.04.2021 behalten für den Auftritt am 28.04.2022 ihre Gültigkeit
URL:https://www.tobiasmann.de/event/neues-programm-rheda-wiedenbrueck/
LOCATION:Stadthalle Rheda-Wiedenbrück\, Hauptstraße 120\, Rheda-Wiedenbrück\, 33378\, Deutschland
CATEGORIES:Liveprogramm
ATTACH;FMTTYPE=image/png:https://www.tobiasmann.de/wp-content/uploads/tribe-related-events-live-r.png
GEO:51.8420392;8.29893483
X-APPLE-STRUCTURED-LOCATION;VALUE=URI;X-ADDRESS=Stadthalle Rheda-Wiedenbrück Hauptstraße 120 Rheda-Wiedenbrück 33378 Deutschland;X-APPLE-RADIUS=500;X-TITLE=Hauptstraße 120:geo:8.29893483,51.8420392
END:VEVENT
END:VCALENDAR