BEGIN:VCALENDAR
VERSION:2.0
PRODID:-//Tobias Mann - ECPv5.16.1.1//NONSGML v1.0//EN
CALSCALE:GREGORIAN
METHOD:PUBLISH
X-WR-CALNAME:Tobias Mann
X-ORIGINAL-URL:https://www.tobiasmann.de
X-WR-CALDESC:Veranstaltungen für Tobias Mann
BEGIN:VTIMEZONE
TZID:Europe/Berlin
BEGIN:DAYLIGHT
TZOFFSETFROM:+0100
TZOFFSETTO:+0200
TZNAME:CEST
DTSTART:20220327T010000
END:DAYLIGHT
BEGIN:STANDARD
TZOFFSETFROM:+0200
TZOFFSETTO:+0100
TZNAME:CET
DTSTART:20221030T010000
END:STANDARD
END:VTIMEZONE
BEGIN:VEVENT
DTSTART;TZID=Europe/Berlin:20220527T200000
DTEND;TZID=Europe/Berlin:20220527T200000
DTSTAMP:20260421T212518
CREATED:20210211T134550Z
LAST-MODIFIED:20220419T130953Z
UID:1368-1653681600-1653681600@www.tobiasmann.de
SUMMARY:„MANN GEGEN MANN“ Kaarst
DESCRIPTION:Infos zu der Veranstaltung im Web  \nTickets online kaufen  \nEs tut uns sehr Leid\, aber das Gastspiel von Tobias Mann musste leider erneut verschoben werden auf den 27.05.2022. Karten vom 13.03.2021 sowie 02.04.2022 behalten für den Auftritt am 27.05.2022 ihre Gültigkeit.
URL:https://www.tobiasmann.de/event/neues-programm-kaarst-2/
LOCATION:Albert-Einstein-Forum\, Am Schulzentrum 16\, Kaarst\, 41564\, Deutschland
CATEGORIES:Liveprogramm
ATTACH;FMTTYPE=image/png:https://www.tobiasmann.de/wp-content/uploads/tribe-related-events-live-r.png
GEO:51.2253036;6.61448266
X-APPLE-STRUCTURED-LOCATION;VALUE=URI;X-ADDRESS=Albert-Einstein-Forum Am Schulzentrum 16 Kaarst 41564 Deutschland;X-APPLE-RADIUS=500;X-TITLE=Am Schulzentrum 16:geo:6.61448266,51.2253036
END:VEVENT
END:VCALENDAR