BEGIN:VCALENDAR
VERSION:2.0
PRODID:-//Tobias Mann - ECPv5.16.1.1//NONSGML v1.0//EN
CALSCALE:GREGORIAN
METHOD:PUBLISH
X-WR-CALNAME:Tobias Mann
X-ORIGINAL-URL:https://www.tobiasmann.de
X-WR-CALDESC:Veranstaltungen für Tobias Mann
BEGIN:VTIMEZONE
TZID:Europe/Berlin
BEGIN:DAYLIGHT
TZOFFSETFROM:+0100
TZOFFSETTO:+0200
TZNAME:CEST
DTSTART:20220327T010000
END:DAYLIGHT
BEGIN:STANDARD
TZOFFSETFROM:+0200
TZOFFSETTO:+0100
TZNAME:CET
DTSTART:20221030T010000
END:STANDARD
END:VTIMEZONE
BEGIN:VEVENT
DTSTART;TZID=Europe/Berlin:20221007T200000
DTEND;TZID=Europe/Berlin:20221007T200000
DTSTAMP:20260425T021517
CREATED:20210407T122912Z
LAST-MODIFIED:20210520T125930Z
UID:1418-1665172800-1665172800@www.tobiasmann.de
SUMMARY:"MANN GEGEN MANN" Erkelenz
DESCRIPTION:Infos zu der Veranstaltung im Web  \nTickets online kaufen
URL:https://www.tobiasmann.de/event/neues-programm-erkelenz/
LOCATION:Stadthalle Erkelenz\, Franziskanerplatz 11\, Erkelenz\, 41812\, Deutschland
CATEGORIES:Liveprogramm
ATTACH;FMTTYPE=image/png:https://www.tobiasmann.de/wp-content/uploads/tribe-related-events-live-r.png
GEO:51.07886915;6.3135213
X-APPLE-STRUCTURED-LOCATION;VALUE=URI;X-ADDRESS=Stadthalle Erkelenz Franziskanerplatz 11 Erkelenz 41812 Deutschland;X-APPLE-RADIUS=500;X-TITLE=Franziskanerplatz 11:geo:6.3135213,51.07886915
END:VEVENT
END:VCALENDAR