BEGIN:VCALENDAR
VERSION:2.0
PRODID:-//Tobias Mann - ECPv5.16.1.1//NONSGML v1.0//EN
CALSCALE:GREGORIAN
METHOD:PUBLISH
X-WR-CALNAME:Tobias Mann
X-ORIGINAL-URL:https://www.tobiasmann.de
X-WR-CALDESC:Veranstaltungen für Tobias Mann
BEGIN:VTIMEZONE
TZID:Europe/Berlin
BEGIN:DAYLIGHT
TZOFFSETFROM:+0100
TZOFFSETTO:+0200
TZNAME:CEST
DTSTART:20220327T010000
END:DAYLIGHT
BEGIN:STANDARD
TZOFFSETFROM:+0200
TZOFFSETTO:+0100
TZNAME:CET
DTSTART:20221030T010000
END:STANDARD
END:VTIMEZONE
BEGIN:VEVENT
DTSTART;TZID=Europe/Berlin:20220915T200000
DTEND;TZID=Europe/Berlin:20220915T200000
DTSTAMP:20260424T230641
CREATED:20210422T122443Z
LAST-MODIFIED:20220911T104055Z
UID:1442-1663272000-1663272000@www.tobiasmann.de
SUMMARY:"MANN GEGEN MANN" Dülmen
DESCRIPTION:Infos zu der Veranstaltung im Web  \nTickets online kaufen  \nBereits getätigte Kartenkäufe für den geplanten Auftritt vom 27.05.2021 werden laut Veranstalter rückabgewickelt
URL:https://www.tobiasmann.de/event/neues-programm-duelmen/
LOCATION:Aula des Schulzentrums\, An der Kreuzkirche 7\, Dülmen\, 48249\, Deutschland
CATEGORIES:Liveprogramm
ATTACH;FMTTYPE=image/png:https://www.tobiasmann.de/wp-content/uploads/tribe-related-events-live-r.png
GEO:51.8256954;7.2819306
X-APPLE-STRUCTURED-LOCATION;VALUE=URI;X-ADDRESS=Aula des Schulzentrums An der Kreuzkirche 7 Dülmen 48249 Deutschland;X-APPLE-RADIUS=500;X-TITLE=An der Kreuzkirche 7:geo:7.2819306,51.8256954
END:VEVENT
END:VCALENDAR