BEGIN:VCALENDAR
VERSION:2.0
PRODID:-//Tobias Mann - ECPv5.16.1.1//NONSGML v1.0//EN
CALSCALE:GREGORIAN
METHOD:PUBLISH
X-WR-CALNAME:Tobias Mann
X-ORIGINAL-URL:https://www.tobiasmann.de
X-WR-CALDESC:Veranstaltungen für Tobias Mann
BEGIN:VTIMEZONE
TZID:Europe/Berlin
BEGIN:DAYLIGHT
TZOFFSETFROM:+0100
TZOFFSETTO:+0200
TZNAME:CEST
DTSTART:20220327T010000
END:DAYLIGHT
BEGIN:STANDARD
TZOFFSETFROM:+0200
TZOFFSETTO:+0100
TZNAME:CET
DTSTART:20221030T010000
END:STANDARD
END:VTIMEZONE
BEGIN:VEVENT
DTSTART;TZID=Europe/Berlin:20220611T200000
DTEND;TZID=Europe/Berlin:20220611T200000
DTSTAMP:20260422T060458
CREATED:20210316T072559Z
LAST-MODIFIED:20210520T125134Z
UID:1394-1654977600-1654977600@www.tobiasmann.de
SUMMARY:"MANN GEGEN MANN" Bocholt
DESCRIPTION:Infos zu der Veranstaltung im Web  \nTickets online kaufen  \nKarten vom 17.04.2021 behalten für den Auftritt am 11.06.2022 ihre Gültigkeit
URL:https://www.tobiasmann.de/event/neues-programm-bocholt/
LOCATION:Textilwerk\, Industriestraße 5\, Bocholt\, 46399\, Deutschland
CATEGORIES:Liveprogramm
ATTACH;FMTTYPE=image/png:https://www.tobiasmann.de/wp-content/uploads/tribe-related-events-live-r.png
GEO:51.8343464;6.6241648
X-APPLE-STRUCTURED-LOCATION;VALUE=URI;X-ADDRESS=Textilwerk Industriestraße 5 Bocholt 46399 Deutschland;X-APPLE-RADIUS=500;X-TITLE=Industriestraße 5:geo:6.6241648,51.8343464
END:VEVENT
END:VCALENDAR