BEGIN:VCALENDAR
VERSION:2.0
PRODID:-//Tobias Mann - ECPv5.16.1.1//NONSGML v1.0//EN
CALSCALE:GREGORIAN
METHOD:PUBLISH
X-WR-CALNAME:Tobias Mann
X-ORIGINAL-URL:https://www.tobiasmann.de
X-WR-CALDESC:Veranstaltungen für Tobias Mann
BEGIN:VTIMEZONE
TZID:Europe/Berlin
BEGIN:DAYLIGHT
TZOFFSETFROM:+0100
TZOFFSETTO:+0200
TZNAME:CEST
DTSTART:20190331T010000
END:DAYLIGHT
BEGIN:STANDARD
TZOFFSETFROM:+0200
TZOFFSETTO:+0100
TZNAME:CET
DTSTART:20191027T010000
END:STANDARD
END:VTIMEZONE
BEGIN:VEVENT
DTSTART;TZID=Europe/Berlin:20191221T214500
DTEND;TZID=Europe/Berlin:20191221T214500
DTSTAMP:20260425T042039
CREATED:20191121T105831Z
LAST-MODIFIED:20191126T125220Z
UID:454-1576964700-1576964700@www.tobiasmann.de
SUMMARY:Mitternachts­spitzen (Ausstrahlung)
DESCRIPTION:Infos zu der Sendung im Web
URL:https://www.tobiasmann.de/event/mitternachtsspitzen-ausstrahlung/
LOCATION:WDR Fernsehen\, Deutschland
CATEGORIES:TV
ATTACH;FMTTYPE=image/png:https://www.tobiasmann.de/wp-content/uploads/tribe-related-events-tv_alt.png
GEO:50.93987075;6.95168736
END:VEVENT
END:VCALENDAR