BEGIN:VCALENDAR
VERSION:2.0
PRODID:-//Tobias Mann - ECPv5.16.1.1//NONSGML v1.0//EN
CALSCALE:GREGORIAN
METHOD:PUBLISH
X-WR-CALNAME:Tobias Mann
X-ORIGINAL-URL:https://www.tobiasmann.de
X-WR-CALDESC:Veranstaltungen für Tobias Mann
BEGIN:VTIMEZONE
TZID:Europe/Berlin
BEGIN:DAYLIGHT
TZOFFSETFROM:+0100
TZOFFSETTO:+0200
TZNAME:CEST
DTSTART:20200329T010000
END:DAYLIGHT
BEGIN:STANDARD
TZOFFSETFROM:+0200
TZOFFSETTO:+0100
TZNAME:CET
DTSTART:20201025T010000
END:STANDARD
END:VTIMEZONE
BEGIN:VEVENT
DTSTART;TZID=Europe/Berlin:20200203T200000
DTEND;TZID=Europe/Berlin:20200203T200000
DTSTAMP:20260424T174659
CREATED:20191121T121007Z
LAST-MODIFIED:20191121T121204Z
UID:485-1580760000-1580760000@www.tobiasmann.de
SUMMARY:„Mann\, Sieber!“ (Aufzeichnung)
DESCRIPTION:Infos zu der Sendung im Web  \nTickets online kaufen
URL:https://www.tobiasmann.de/event/mann-sieber-aufzeichnung-2/
LOCATION:Cape Cross / Studios\, Schanzenstraße 22\, Köln\, 51063\, Deutschland
CATEGORIES:TV
ATTACH;FMTTYPE=image/png:https://www.tobiasmann.de/wp-content/uploads/tribe-related-events-tv_alt.png
GEO:50.9672258;7.0106573
X-APPLE-STRUCTURED-LOCATION;VALUE=URI;X-ADDRESS=Cape Cross / Studios Schanzenstraße 22 Köln 51063 Deutschland;X-APPLE-RADIUS=500;X-TITLE=Schanzenstraße 22:geo:7.0106573,50.9672258
END:VEVENT
END:VCALENDAR