BEGIN:VCALENDAR
VERSION:2.0
PRODID:-//Tobias Mann - ECPv5.16.1.1//NONSGML v1.0//EN
CALSCALE:GREGORIAN
METHOD:PUBLISH
X-WR-CALNAME:Tobias Mann
X-ORIGINAL-URL:https://www.tobiasmann.de
X-WR-CALDESC:Veranstaltungen für Tobias Mann
BEGIN:VTIMEZONE
TZID:Europe/Berlin
BEGIN:DAYLIGHT
TZOFFSETFROM:+0100
TZOFFSETTO:+0200
TZNAME:CEST
DTSTART:20230326T010000
END:DAYLIGHT
BEGIN:STANDARD
TZOFFSETFROM:+0200
TZOFFSETTO:+0100
TZNAME:CET
DTSTART:20231029T010000
END:STANDARD
END:VTIMEZONE
BEGIN:VEVENT
DTSTART;TZID=Europe/Berlin:20230120T200000
DTEND;TZID=Europe/Berlin:20230120T200000
DTSTAMP:20260425T144420
CREATED:20221016T165338Z
LAST-MODIFIED:20221016T165338Z
UID:2282-1674244800-1674244800@www.tobiasmann.de
SUMMARY:"Mann gegen Mann" Tauberbischofsheim
DESCRIPTION:Infos zu der Veranstaltung im Web  \nTickets online kaufen
URL:https://www.tobiasmann.de/event/mann-gegen-mann-tauberbischofsheim/
LOCATION:Engelsaal\, Blumenstr. 5\, Tauberbischofsheim\, 97941\, Deutschland
CATEGORIES:Liveprogramm
ATTACH;FMTTYPE=image/png:https://www.tobiasmann.de/wp-content/uploads/tribe-related-events-live-r.png
END:VEVENT
END:VCALENDAR