BEGIN:VCALENDAR
VERSION:2.0
PRODID:-//Tobias Mann - ECPv5.16.1.1//NONSGML v1.0//EN
CALSCALE:GREGORIAN
METHOD:PUBLISH
X-WR-CALNAME:Tobias Mann
X-ORIGINAL-URL:https://www.tobiasmann.de
X-WR-CALDESC:Veranstaltungen für Tobias Mann
BEGIN:VTIMEZONE
TZID:Europe/Berlin
BEGIN:DAYLIGHT
TZOFFSETFROM:+0100
TZOFFSETTO:+0200
TZNAME:CEST
DTSTART:20220327T010000
END:DAYLIGHT
BEGIN:STANDARD
TZOFFSETFROM:+0200
TZOFFSETTO:+0100
TZNAME:CET
DTSTART:20221030T010000
END:STANDARD
END:VTIMEZONE
BEGIN:VEVENT
DTSTART;TZID=Europe/Berlin:20220524T200000
DTEND;TZID=Europe/Berlin:20220524T200000
DTSTAMP:20260421T172951
CREATED:20220228T101108Z
LAST-MODIFIED:20220228T101441Z
UID:2079-1653422400-1653422400@www.tobiasmann.de
SUMMARY:"MANN GEGEN MANN" Mainz
DESCRIPTION:Infos zu der Veranstaltung im Web  \nTickets online kaufen
URL:https://www.tobiasmann.de/event/mann-gegen-mann-mainz-2/
LOCATION:Unterhaus Mainz\, Münsterstrasse 7\, Mainz\, 55116\, Deutschland
CATEGORIES:Liveprogramm
ATTACH;FMTTYPE=image/png:https://www.tobiasmann.de/wp-content/uploads/tribe-related-events-live-r.png
GEO:49.9984092;8.2665715
X-APPLE-STRUCTURED-LOCATION;VALUE=URI;X-ADDRESS=Unterhaus Mainz Münsterstrasse 7 Mainz 55116 Deutschland;X-APPLE-RADIUS=500;X-TITLE=Münsterstrasse 7:geo:8.2665715,49.9984092
END:VEVENT
END:VCALENDAR