BEGIN:VCALENDAR
VERSION:2.0
PRODID:-//Tobias Mann - ECPv5.16.1.1//NONSGML v1.0//EN
CALSCALE:GREGORIAN
METHOD:PUBLISH
X-WR-CALNAME:Tobias Mann
X-ORIGINAL-URL:https://www.tobiasmann.de
X-WR-CALDESC:Veranstaltungen für Tobias Mann
BEGIN:VTIMEZONE
TZID:Europe/Berlin
BEGIN:DAYLIGHT
TZOFFSETFROM:+0100
TZOFFSETTO:+0200
TZNAME:CEST
DTSTART:20220327T010000
END:DAYLIGHT
BEGIN:STANDARD
TZOFFSETFROM:+0200
TZOFFSETTO:+0100
TZNAME:CET
DTSTART:20221030T010000
END:STANDARD
END:VTIMEZONE
BEGIN:VEVENT
DTSTART;TZID=Europe/Berlin:20221005T200000
DTEND;TZID=Europe/Berlin:20221005T200000
DTSTAMP:20260425T003825
CREATED:20211124T073531Z
LAST-MODIFIED:20220721T125715Z
UID:1944-1665000000-1665000000@www.tobiasmann.de
SUMMARY:„MANN GEGEN MANN“ Koblenz-Güls
DESCRIPTION:Infos zu der Veranstaltung im Web  \nTickets online kaufen  \nEs tut uns sehr Leid\, aber das Gastspiel von Tobias Mann musste leider verschoben werden auf den 05.10.2022. Karten vom 31.03.2022 behalten für den Auftritt am 05.10.2022 ihre Gültigkeit.
URL:https://www.tobiasmann.de/event/mann-gegen-mann-koblenz-guels/
LOCATION:Café Hahn\, Neustraße 15\, Koblenz-Güls\, 56072\, Deutschland
CATEGORIES:Liveprogramm
ATTACH;FMTTYPE=image/png:https://www.tobiasmann.de/wp-content/uploads/tribe-related-events-live-r.png
GEO:50.3446433;7.5497211
X-APPLE-STRUCTURED-LOCATION;VALUE=URI;X-ADDRESS=Café Hahn Neustraße 15 Koblenz-Güls 56072 Deutschland;X-APPLE-RADIUS=500;X-TITLE=Neustraße 15:geo:7.5497211,50.3446433
END:VEVENT
END:VCALENDAR