BEGIN:VCALENDAR
VERSION:2.0
PRODID:-//Tobias Mann - ECPv5.16.1.1//NONSGML v1.0//EN
CALSCALE:GREGORIAN
METHOD:PUBLISH
X-WR-CALNAME:Tobias Mann
X-ORIGINAL-URL:https://www.tobiasmann.de
X-WR-CALDESC:Veranstaltungen für Tobias Mann
BEGIN:VTIMEZONE
TZID:Europe/Berlin
BEGIN:DAYLIGHT
TZOFFSETFROM:+0100
TZOFFSETTO:+0200
TZNAME:CEST
DTSTART:20230326T010000
END:DAYLIGHT
BEGIN:STANDARD
TZOFFSETFROM:+0200
TZOFFSETTO:+0100
TZNAME:CET
DTSTART:20231029T010000
END:STANDARD
END:VTIMEZONE
BEGIN:VEVENT
DTSTART;TZID=Europe/Berlin:20231012T200000
DTEND;TZID=Europe/Berlin:20231012T200000
DTSTAMP:20260425T130110
CREATED:20230103T184042Z
LAST-MODIFIED:20231003T122146Z
UID:2431-1697140800-1697140800@www.tobiasmann.de
SUMMARY:"Mann gegen Mann" Frankfurt-Höchst
DESCRIPTION:Infos zu der Veranstaltung im Web  \nTickets online kaufen
URL:https://www.tobiasmann.de/event/mann-gegen-mann-frankfurt-2/
LOCATION:Neues Theater Höchst\, Emmerich-Josef-Straße 46a\, Frankfurt\, 65929\, Deutschland
CATEGORIES:Liveprogramm
ATTACH;FMTTYPE=image/png:https://www.tobiasmann.de/wp-content/uploads/tribe-related-events-live-r.png
GEO:50.1002024;8.5450498
X-APPLE-STRUCTURED-LOCATION;VALUE=URI;X-ADDRESS=Neues Theater Höchst Emmerich-Josef-Straße 46a Frankfurt 65929 Deutschland;X-APPLE-RADIUS=500;X-TITLE=Emmerich-Josef-Straße 46a:geo:8.5450498,50.1002024
END:VEVENT
END:VCALENDAR