BEGIN:VCALENDAR
VERSION:2.0
PRODID:-//Tobias Mann - ECPv5.16.1.1//NONSGML v1.0//EN
CALSCALE:GREGORIAN
METHOD:PUBLISH
X-WR-CALNAME:Tobias Mann
X-ORIGINAL-URL:https://www.tobiasmann.de
X-WR-CALDESC:Veranstaltungen für Tobias Mann
BEGIN:VTIMEZONE
TZID:Europe/Berlin
BEGIN:DAYLIGHT
TZOFFSETFROM:+0100
TZOFFSETTO:+0200
TZNAME:CEST
DTSTART:20220327T010000
END:DAYLIGHT
BEGIN:STANDARD
TZOFFSETFROM:+0200
TZOFFSETTO:+0100
TZNAME:CET
DTSTART:20221030T010000
END:STANDARD
END:VTIMEZONE
BEGIN:VEVENT
DTSTART;TZID=Europe/Berlin:20220908T200000
DTEND;TZID=Europe/Berlin:20220908T200000
DTSTAMP:20260424T195756
CREATED:20220111T143429Z
LAST-MODIFIED:20220111T143429Z
UID:2010-1662667200-1662667200@www.tobiasmann.de
SUMMARY:„MANN GEGEN MANN“ Dortmund
DESCRIPTION:Infos zu der Veranstaltung im Web  \nTickets online kaufen
URL:https://www.tobiasmann.de/event/mann-gegen-mann-dortmund/
LOCATION:Schalthaus 101 Phönix West\, Phönixplatz/Hochofenstraße 35\, Dortmund\, 44263
CATEGORIES:Liveprogramm
ATTACH;FMTTYPE=image/png:https://www.tobiasmann.de/wp-content/uploads/tribe-related-events-live-r.png
GEO:51.4871507;7.4893208
X-APPLE-STRUCTURED-LOCATION;VALUE=URI;X-ADDRESS=Schalthaus 101 Phönix West Phönixplatz/Hochofenstraße 35 Dortmund 44263;X-APPLE-RADIUS=500;X-TITLE=Phönixplatz/Hochofenstraße 35:geo:7.4893208,51.4871507
END:VEVENT
END:VCALENDAR