BEGIN:VCALENDAR
VERSION:2.0
PRODID:-//Tobias Mann - ECPv5.16.1.1//NONSGML v1.0//EN
CALSCALE:GREGORIAN
METHOD:PUBLISH
X-WR-CALNAME:Tobias Mann
X-ORIGINAL-URL:https://www.tobiasmann.de
X-WR-CALDESC:Veranstaltungen für Tobias Mann
BEGIN:VTIMEZONE
TZID:Europe/Berlin
BEGIN:DAYLIGHT
TZOFFSETFROM:+0100
TZOFFSETTO:+0200
TZNAME:CEST
DTSTART:20220327T010000
END:DAYLIGHT
BEGIN:STANDARD
TZOFFSETFROM:+0200
TZOFFSETTO:+0100
TZNAME:CET
DTSTART:20221030T010000
END:STANDARD
END:VTIMEZONE
BEGIN:VEVENT
DTSTART;TZID=Europe/Berlin:20220624T203000
DTEND;TZID=Europe/Berlin:20220624T203000
DTSTAMP:20260422T093041
CREATED:20210923T103651Z
LAST-MODIFIED:20220228T122753Z
UID:1860-1656102600-1656102600@www.tobiasmann.de
SUMMARY:„MANN GEGEN MANN“ Darmstadt
DESCRIPTION:Infos zu der Veranstaltung im Web  \nTickets online kaufen  \nKarten sowohl vom 24.09.2021 als auch vom 25.09.2021 behalten für den Auftritt am 24.06.2022 ihre Gültigkeit
URL:https://www.tobiasmann.de/event/mann-gegen-mann-darmstadt/
LOCATION:halbNeun Theater\, Sandstraße 32\, Darmstadt\, 64283\, Deutschland
CATEGORIES:Liveprogramm
ATTACH;FMTTYPE=image/png:https://www.tobiasmann.de/wp-content/uploads/tribe-related-events-live-r.png
GEO:49.8674069;8.6473876
X-APPLE-STRUCTURED-LOCATION;VALUE=URI;X-ADDRESS=halbNeun Theater Sandstraße 32 Darmstadt 64283 Deutschland;X-APPLE-RADIUS=500;X-TITLE=Sandstraße 32:geo:8.6473876,49.8674069
END:VEVENT
END:VCALENDAR