BEGIN:VCALENDAR
VERSION:2.0
PRODID:-//Tobias Mann - ECPv5.16.1.1//NONSGML v1.0//EN
CALSCALE:GREGORIAN
METHOD:PUBLISH
X-WR-CALNAME:Tobias Mann
X-ORIGINAL-URL:https://www.tobiasmann.de
X-WR-CALDESC:Veranstaltungen für Tobias Mann
BEGIN:VTIMEZONE
TZID:Europe/Berlin
BEGIN:DAYLIGHT
TZOFFSETFROM:+0100
TZOFFSETTO:+0200
TZNAME:CEST
DTSTART:20220327T010000
END:DAYLIGHT
BEGIN:STANDARD
TZOFFSETFROM:+0200
TZOFFSETTO:+0100
TZNAME:CET
DTSTART:20221030T010000
END:STANDARD
END:VTIMEZONE
BEGIN:VEVENT
DTSTART;TZID=Europe/Berlin:20220518T110000
DTEND;TZID=Europe/Berlin:20220518T110000
DTSTAMP:20260421T125004
CREATED:20220228T093356Z
LAST-MODIFIED:20220228T093650Z
UID:2068-1652871600-1652871600@www.tobiasmann.de
SUMMARY:Festakt zum 75-jährigen Jubiläum des Landes Rheinland-Pfalz
DESCRIPTION:Infos zum Festakt im Web
URL:https://www.tobiasmann.de/event/festakt-75-jaehriges-jubilaeum-des-landes-rheinland-pfalz/
LOCATION:Staatstheater Mainz | Großes Haus\, Gutenbergplatz 7\, Mainz\, 55116\, Deutschland
CATEGORIES:Sonstiges
ATTACH;FMTTYPE=image/png:https://www.tobiasmann.de/wp-content/uploads/tribe-related-events-live-r.png
GEO:49.9991951;8.271712
X-APPLE-STRUCTURED-LOCATION;VALUE=URI;X-ADDRESS=Staatstheater Mainz | Großes Haus Gutenbergplatz 7 Mainz 55116 Deutschland;X-APPLE-RADIUS=500;X-TITLE=Gutenbergplatz 7:geo:8.271712,49.9991951
END:VEVENT
END:VCALENDAR