BEGIN:VCALENDAR
VERSION:2.0
PRODID:-//Tobias Mann - ECPv5.16.1.1//NONSGML v1.0//EN
CALSCALE:GREGORIAN
METHOD:PUBLISH
X-WR-CALNAME:Tobias Mann
X-ORIGINAL-URL:https://www.tobiasmann.de
X-WR-CALDESC:Veranstaltungen für Tobias Mann
BEGIN:VTIMEZONE
TZID:Europe/Berlin
BEGIN:DAYLIGHT
TZOFFSETFROM:+0100
TZOFFSETTO:+0200
TZNAME:CEST
DTSTART:20240331T010000
END:DAYLIGHT
BEGIN:STANDARD
TZOFFSETFROM:+0200
TZOFFSETTO:+0100
TZNAME:CET
DTSTART:20241027T010000
END:STANDARD
END:VTIMEZONE
BEGIN:VEVENT
DTSTART;TZID=Europe/Berlin:20240316T200000
DTEND;TZID=Europe/Berlin:20240316T200000
DTSTAMP:20260425T163619
CREATED:20230930T173641Z
LAST-MODIFIED:20230930T173641Z
UID:2626-1710619200-1710619200@www.tobiasmann.de
SUMMARY:Eschweiler
DESCRIPTION:„MANN GEGEN MANN“ \nInfos zu der Veranstaltung im Web \nTickets online kaufen
URL:https://www.tobiasmann.de/event/eschweiler/
LOCATION:Talbahnhof\, Raiffeisen-Platz 1-3\, Eschweiler\, 52249\, Deutschland
CATEGORIES:Liveprogramm
ATTACH;FMTTYPE=image/png:https://www.tobiasmann.de/wp-content/uploads/tribe-related-events-live-r.png
END:VEVENT
END:VCALENDAR