BEGIN:VCALENDAR
VERSION:2.0
PRODID:-//Tobias Mann - ECPv5.16.1.1//NONSGML v1.0//EN
CALSCALE:GREGORIAN
METHOD:PUBLISH
X-WR-CALNAME:Tobias Mann
X-ORIGINAL-URL:https://www.tobiasmann.de
X-WR-CALDESC:Veranstaltungen für Tobias Mann
BEGIN:VTIMEZONE
TZID:Europe/Berlin
BEGIN:DAYLIGHT
TZOFFSETFROM:+0100
TZOFFSETTO:+0200
TZNAME:CEST
DTSTART:20220327T010000
END:DAYLIGHT
BEGIN:STANDARD
TZOFFSETFROM:+0200
TZOFFSETTO:+0100
TZNAME:CET
DTSTART:20221030T010000
END:STANDARD
END:VTIMEZONE
BEGIN:VEVENT
DTSTART;TZID=Europe/Berlin:20220427T210000
DTEND;TZID=Europe/Berlin:20220427T214500
DTSTAMP:20260421T140516
CREATED:20220227T190112Z
LAST-MODIFIED:20220414T121151Z
UID:2058-1651093200-1651095900@www.tobiasmann.de
SUMMARY:"dreizueins" | Ausstrahlung
DESCRIPTION:Infos zu der Sendung im Web
URL:https://www.tobiasmann.de/event/dreizueins-ausstrahlung/
LOCATION:BR Fernsehen
CATEGORIES:TV
ATTACH;FMTTYPE=image/png:https://www.tobiasmann.de/wp-content/uploads/tribe-related-events-tv_alt.png
GEO:48.14414095;11.5546787
END:VEVENT
END:VCALENDAR