BEGIN:VCALENDAR
VERSION:2.0
PRODID:-//Tobias Mann - ECPv5.16.1.1//NONSGML v1.0//EN
CALSCALE:GREGORIAN
METHOD:PUBLISH
X-WR-CALNAME:Tobias Mann
X-ORIGINAL-URL:https://www.tobiasmann.de
X-WR-CALDESC:Veranstaltungen für Tobias Mann
BEGIN:VTIMEZONE
TZID:Europe/Berlin
BEGIN:DAYLIGHT
TZOFFSETFROM:+0100
TZOFFSETTO:+0200
TZNAME:CEST
DTSTART:20190331T010000
END:DAYLIGHT
BEGIN:STANDARD
TZOFFSETFROM:+0200
TZOFFSETTO:+0100
TZNAME:CET
DTSTART:20191027T010000
END:STANDARD
END:VTIMEZONE
BEGIN:VEVENT
DTSTART;TZID=Europe/Berlin:20191212T200000
DTEND;TZID=Europe/Berlin:20191212T200000
DTSTAMP:20260424T205344
CREATED:20191121T104703Z
LAST-MODIFIED:20191121T120533Z
UID:446-1576180800-1576180800@www.tobiasmann.de
SUMMARY:"CHAOS" Würzburg
DESCRIPTION:Infos zu der Veranstaltung im Web  \nTickets online kaufen
URL:https://www.tobiasmann.de/event/chaos-wuerzburg/
LOCATION:Bockshorn im Kulturspeicher\, Oskar-Laredo-Platz 1\, Würzburg\, 97080\, Deutschland
CATEGORIES:Liveprogramm
ATTACH;FMTTYPE=image/png:https://www.tobiasmann.de/wp-content/uploads/tribe-related-events-live-r.png
GEO:49.8010394;9.92271833
X-APPLE-STRUCTURED-LOCATION;VALUE=URI;X-ADDRESS=Bockshorn im Kulturspeicher Oskar-Laredo-Platz 1 Würzburg 97080 Deutschland;X-APPLE-RADIUS=500;X-TITLE=Oskar-Laredo-Platz 1:geo:9.92271833,49.8010394
END:VEVENT
END:VCALENDAR