BEGIN:VCALENDAR
VERSION:2.0
PRODID:-//Tobias Mann - ECPv5.16.1.1//NONSGML v1.0//EN
CALSCALE:GREGORIAN
METHOD:PUBLISH
X-WR-CALNAME:Tobias Mann
X-ORIGINAL-URL:https://www.tobiasmann.de
X-WR-CALDESC:Veranstaltungen für Tobias Mann
BEGIN:VTIMEZONE
TZID:Europe/Berlin
BEGIN:DAYLIGHT
TZOFFSETFROM:+0100
TZOFFSETTO:+0200
TZNAME:CEST
DTSTART:20200329T010000
END:DAYLIGHT
BEGIN:STANDARD
TZOFFSETFROM:+0200
TZOFFSETTO:+0100
TZNAME:CET
DTSTART:20201025T010000
END:STANDARD
END:VTIMEZONE
BEGIN:VEVENT
DTSTART;TZID=Europe/Berlin:20200924T200000
DTEND;TZID=Europe/Berlin:20200924T200000
DTSTAMP:20260424T202127
CREATED:20191121T130123Z
LAST-MODIFIED:20191121T130123Z
UID:531-1600977600-1600977600@www.tobiasmann.de
SUMMARY:"CHAOS" Wiesbaden
DESCRIPTION:Infos zu der Veranstaltung im Web  \nTickets online kaufen
URL:https://www.tobiasmann.de/event/chaos-wiesbaden/
LOCATION:Schlachthof Wiesbaden\, Murnaustraße 1\, Wiesbaden\, 65189\, Deutschland
CATEGORIES:Liveprogramm
ATTACH;FMTTYPE=image/png:https://www.tobiasmann.de/wp-content/uploads/tribe-related-events-live-r.png
GEO:50.0657074;8.24827884
X-APPLE-STRUCTURED-LOCATION;VALUE=URI;X-ADDRESS=Schlachthof Wiesbaden Murnaustraße 1 Wiesbaden 65189 Deutschland;X-APPLE-RADIUS=500;X-TITLE=Murnaustraße 1:geo:8.24827884,50.0657074
END:VEVENT
END:VCALENDAR