BEGIN:VCALENDAR
VERSION:2.0
PRODID:-//Tobias Mann - ECPv5.16.1.1//NONSGML v1.0//EN
CALSCALE:GREGORIAN
METHOD:PUBLISH
X-WR-CALNAME:Tobias Mann
X-ORIGINAL-URL:https://www.tobiasmann.de
X-WR-CALDESC:Veranstaltungen für Tobias Mann
BEGIN:VTIMEZONE
TZID:Europe/Berlin
BEGIN:DAYLIGHT
TZOFFSETFROM:+0100
TZOFFSETTO:+0200
TZNAME:CEST
DTSTART:20220327T010000
END:DAYLIGHT
BEGIN:STANDARD
TZOFFSETFROM:+0200
TZOFFSETTO:+0100
TZNAME:CET
DTSTART:20221030T010000
END:STANDARD
END:VTIMEZONE
BEGIN:VEVENT
DTSTART;TZID=Europe/Berlin:20220909T200000
DTEND;TZID=Europe/Berlin:20220909T200000
DTSTAMP:20260424T213352
CREATED:20210302T090301Z
LAST-MODIFIED:20210520T125218Z
UID:1381-1662753600-1662753600@www.tobiasmann.de
SUMMARY:"MANN GEGEN MANN" Wermelskirchen
DESCRIPTION:Infos zu der Veranstaltung im Web  \nTickets online kaufen  \nKarten vom 26.03.2021 behalten für den Auftritt am 09.09.2022 ihre Gültigkeit
URL:https://www.tobiasmann.de/event/chaos-wermelskirchen/
LOCATION:Kattwinkel’sche Fabrik\, Kattwinkelstraße 3\, Wermelskirchen\, 42929\, Deutschland
CATEGORIES:Liveprogramm
ATTACH;FMTTYPE=image/png:https://www.tobiasmann.de/wp-content/uploads/tribe-related-events-live-r.png
GEO:51.1386223;7.2171523
X-APPLE-STRUCTURED-LOCATION;VALUE=URI;X-ADDRESS=Kattwinkel’sche Fabrik Kattwinkelstraße 3 Wermelskirchen 42929 Deutschland;X-APPLE-RADIUS=500;X-TITLE=Kattwinkelstraße 3:geo:7.2171523,51.1386223
END:VEVENT
END:VCALENDAR