BEGIN:VCALENDAR
VERSION:2.0
PRODID:-//Tobias Mann - ECPv5.16.1.1//NONSGML v1.0//EN
CALSCALE:GREGORIAN
METHOD:PUBLISH
X-WR-CALNAME:Tobias Mann
X-ORIGINAL-URL:https://www.tobiasmann.de
X-WR-CALDESC:Veranstaltungen für Tobias Mann
BEGIN:VTIMEZONE
TZID:Europe/Berlin
BEGIN:DAYLIGHT
TZOFFSETFROM:+0100
TZOFFSETTO:+0200
TZNAME:CEST
DTSTART:20200329T010000
END:DAYLIGHT
BEGIN:STANDARD
TZOFFSETFROM:+0200
TZOFFSETTO:+0100
TZNAME:CET
DTSTART:20201025T010000
END:STANDARD
END:VTIMEZONE
BEGIN:VEVENT
DTSTART;TZID=Europe/Berlin:20200114T200000
DTEND;TZID=Europe/Berlin:20200114T200000
DTSTAMP:20260425T041658
CREATED:20191121T112814Z
LAST-MODIFIED:20191121T112814Z
UID:457-1579032000-1579032000@www.tobiasmann.de
SUMMARY:"CHAOS" Stuttgart
DESCRIPTION:Infos zu der Veranstaltung im Web  \nTickets online kaufen
URL:https://www.tobiasmann.de/event/chaos-stuttgart/
LOCATION:Renitenztheater\, Büchsenstraße 26\, Stuttgart\, 70174\, Deutschland
CATEGORIES:Liveprogramm
ATTACH;FMTTYPE=image/png:https://www.tobiasmann.de/wp-content/uploads/tribe-related-events-live-r.png
GEO:48.77807295;9.17327947
X-APPLE-STRUCTURED-LOCATION;VALUE=URI;X-ADDRESS=Renitenztheater Büchsenstraße 26 Stuttgart 70174 Deutschland;X-APPLE-RADIUS=500;X-TITLE=Büchsenstraße 26:geo:9.17327947,48.77807295
END:VEVENT
END:VCALENDAR