BEGIN:VCALENDAR
VERSION:2.0
PRODID:-//Tobias Mann - ECPv5.16.1.1//NONSGML v1.0//EN
CALSCALE:GREGORIAN
METHOD:PUBLISH
X-WR-CALNAME:Tobias Mann
X-ORIGINAL-URL:https://www.tobiasmann.de
X-WR-CALDESC:Veranstaltungen für Tobias Mann
BEGIN:VTIMEZONE
TZID:Europe/Berlin
BEGIN:DAYLIGHT
TZOFFSETFROM:+0100
TZOFFSETTO:+0200
TZNAME:CEST
DTSTART:20200329T010000
END:DAYLIGHT
BEGIN:STANDARD
TZOFFSETFROM:+0200
TZOFFSETTO:+0100
TZNAME:CET
DTSTART:20201025T010000
END:STANDARD
END:VTIMEZONE
BEGIN:VEVENT
DTSTART;TZID=Europe/Berlin:20200920T180000
DTEND;TZID=Europe/Berlin:20200920T180000
DTSTAMP:20260424T185309
CREATED:20191121T125708Z
LAST-MODIFIED:20200818T125612Z
UID:528-1600624800-1600624800@www.tobiasmann.de
SUMMARY:"CHAOS" Düsseldorf | Fällt aus – neuer Termin folgt
DESCRIPTION:Infos zu der Veranstaltung im Web  \nTickets online kaufen  \nKarten vom 20.09.2020 behalten ihre Gültigkeit
URL:https://www.tobiasmann.de/event/chaos-duesseldorf-4/
LOCATION:Kom(m)ödchen\, Kay-und-Lore-Lorentz-Platz\, Düsseldorf\, 40213\, Deutschland
CATEGORIES:Liveprogramm
ATTACH;FMTTYPE=image/png:https://www.tobiasmann.de/wp-content/uploads/tribe-related-events-live-r.png
GEO:51.22639525;6.77505427
X-APPLE-STRUCTURED-LOCATION;VALUE=URI;X-ADDRESS=Kom(m)ödchen Kay-und-Lore-Lorentz-Platz Düsseldorf 40213 Deutschland;X-APPLE-RADIUS=500;X-TITLE=Kay-und-Lore-Lorentz-Platz:geo:6.77505427,51.22639525
END:VEVENT
END:VCALENDAR