BEGIN:VCALENDAR
VERSION:2.0
PRODID:-//Tobias Mann - ECPv5.16.1.1//NONSGML v1.0//EN
CALSCALE:GREGORIAN
METHOD:PUBLISH
X-WR-CALNAME:Tobias Mann
X-ORIGINAL-URL:https://www.tobiasmann.de
X-WR-CALDESC:Veranstaltungen für Tobias Mann
BEGIN:VTIMEZONE
TZID:Europe/Berlin
BEGIN:DAYLIGHT
TZOFFSETFROM:+0100
TZOFFSETTO:+0200
TZNAME:CEST
DTSTART:20200329T010000
END:DAYLIGHT
BEGIN:STANDARD
TZOFFSETFROM:+0200
TZOFFSETTO:+0100
TZNAME:CET
DTSTART:20201025T010000
END:STANDARD
END:VTIMEZONE
BEGIN:VEVENT
DTSTART;TZID=Europe/Berlin:20200216T180000
DTEND;TZID=Europe/Berlin:20200216T180000
DTSTAMP:20260424T210144
CREATED:20191112T133046Z
LAST-MODIFIED:20200210T094448Z
UID:429-1581876000-1581876000@www.tobiasmann.de
SUMMARY:"CHAOS" Aschaffenburg | AUSVERKAUFT
DESCRIPTION:Infos zu der Veranstaltung im Web  \nTickets online kaufen
URL:https://www.tobiasmann.de/event/chaos-aschaffenburg/
LOCATION:Hofgarten Humorbrigade\, Hofgartenstraße 1a\, Aschaffenburg\, 63739\, Deutschland
CATEGORIES:AUSVERKAUFT
ATTACH;FMTTYPE=image/png:https://www.tobiasmann.de/wp-content/uploads/tribe-related-events-live-r.png
GEO:49.9761179;9.1548824
X-APPLE-STRUCTURED-LOCATION;VALUE=URI;X-ADDRESS=Hofgarten Humorbrigade Hofgartenstraße 1a Aschaffenburg 63739 Deutschland;X-APPLE-RADIUS=500;X-TITLE=Hofgartenstraße 1a:geo:9.1548824,49.9761179
END:VEVENT
END:VCALENDAR