BEGIN:VCALENDAR
VERSION:2.0
PRODID:-//Tobias Mann - ECPv5.16.1.1//NONSGML v1.0//EN
CALSCALE:GREGORIAN
METHOD:PUBLISH
X-WR-CALNAME:Tobias Mann
X-ORIGINAL-URL:https://www.tobiasmann.de
X-WR-CALDESC:Veranstaltungen für Tobias Mann
BEGIN:VTIMEZONE
TZID:Europe/Berlin
BEGIN:DAYLIGHT
TZOFFSETFROM:+0100
TZOFFSETTO:+0200
TZNAME:CEST
DTSTART:20230326T010000
END:DAYLIGHT
BEGIN:STANDARD
TZOFFSETFROM:+0200
TZOFFSETTO:+0100
TZNAME:CET
DTSTART:20231029T010000
END:STANDARD
END:VTIMEZONE
BEGIN:VEVENT
DTSTART;TZID=Europe/Berlin:20230906T200000
DTEND;TZID=Europe/Berlin:20230906T200000
DTSTAMP:20260424T174735
CREATED:20221016T174004Z
LAST-MODIFIED:20230529T153333Z
UID:2308-1694030400-1694030400@www.tobiasmann.de
SUMMARY:"111. WDR Kabarettfest" | Bonn
DESCRIPTION:Infos zu der Veranstaltung im Web  \nTobias Mann moderiert das 111. WDR Kabarettfest im Bonner Pantheon Theater. \nTickets online kaufen
URL:https://www.tobiasmann.de/event/110-wdr-kabarettfest-bonn/
LOCATION:PANTHEON Theater\, Siegburger Straße 42\, Bonn\, 53229\, Deutschland
CATEGORIES:Liveprogramm
ATTACH;FMTTYPE=image/png:https://www.tobiasmann.de/wp-content/uploads/tribe-related-events-live-r.png
GEO:50.7397475;7.1324313
X-APPLE-STRUCTURED-LOCATION;VALUE=URI;X-ADDRESS=PANTHEON Theater Siegburger Straße 42 Bonn 53229 Deutschland;X-APPLE-RADIUS=500;X-TITLE=Siegburger Straße 42:geo:7.1324313,50.7397475
END:VEVENT
END:VCALENDAR